BEGIN:VCALENDAR
VERSION:2.0
PRODID:-//NSZZ SOLIDARNOŚĆ - ECPv4.6//NONSGML v1.0//EN
CALSCALE:GREGORIAN
METHOD:PUBLISH
X-WR-CALNAME:NSZZ SOLIDARNOŚĆ
X-ORIGINAL-URL:https://www.solidarnosc.org.pl/bbial/archiwumstrony
X-WR-CALDESC:Events for NSZZ SOLIDARNOŚĆ
BEGIN:VEVENT
DTSTART;TZID=Europe/Warsaw:20210324T080000
DTEND;TZID=Europe/Warsaw:20210325T170000
DTSTAMP:20260420T033041
CREATED:20210118T104726Z
LAST-MODIFIED:20210118T104726Z
UID:22267-1616572800-1616691600@www.solidarnosc.org.pl
SUMMARY:Zarządzanie konfliktem
DESCRIPTION:Trener: Hanna Daszczyńska z Komisji Krajowej NSZZ „Solidarność”Miejsce: Stacjonarne lub on-lineIlość uczestników: 10-20 osób \n  \n
URL:https://www.solidarnosc.org.pl/bbial/archiwumstrony/event/zarzadzanie-konfliktem/
CATEGORIES:event,KALENDARZ WYDARZEŃ,spotkanie,Szkolenia i imprezy
END:VEVENT
END:VCALENDAR