BEGIN:VCALENDAR
VERSION:2.0
PRODID:-//NSZZ SOLIDARNOŚĆ - ECPv4.6//NONSGML v1.0//EN
CALSCALE:GREGORIAN
METHOD:PUBLISH
X-WR-CALNAME:NSZZ SOLIDARNOŚĆ
X-ORIGINAL-URL:https://www.solidarnosc.org.pl/bbial/archiwumstrony
X-WR-CALDESC:Events for NSZZ SOLIDARNOŚĆ
BEGIN:VEVENT
DTSTART;TZID=Europe/Warsaw:20201026T080000
DTEND;TZID=Europe/Warsaw:20201026T170000
DTSTAMP:20260420T104241
CREATED:20200924T101655Z
LAST-MODIFIED:20200924T103335Z
UID:21041-1603699200-1603731600@www.solidarnosc.org.pl
SUMMARY:Spotkanie promujące „Spacerownik Bielski” autorstwa Artura Kasprzykowskiego
DESCRIPTION:Spotkanie promujące „Spacerownik Bielski” odbędzie się 26 października 2020 roku o godz. 17.00 w Książnicy Beskidzkiej w Bielsku-Białej. „Spacerownik” w przystępny sposób opisuje burzliwe dzieje „Solidarności” w Bielsku-Białej i Regionie Podbeskidzie w latach 1980-1990\, prowadząc czytelników ulicami miasta i wskazując miejsca związane z tą historią. Na lokalnym rynku wydawniczym nie było dotąd podobnego opracowania.   \nZapraszamy serdecznie! \n
URL:https://www.solidarnosc.org.pl/bbial/archiwumstrony/event/spotkanie-promujace-spacerownik-bielski-autorstwa-artura-kasprzykowskiego/
CATEGORIES:event,KALENDARZ WYDARZEŃ,spotkanie,Szkolenia i imprezy
END:VEVENT
END:VCALENDAR